BEGIN:VCALENDAR
VERSION:2.0
PRODID:https://www.kufer.de/kuferweb / DE
METHOD:PUBLISH
CALSCALE:GREGORIAN
X-WR-TIMEZONE:Europe/Berlin
BEGIN:VTIMEZONE
TZID:Europe/Berlin
X-LIC-LOCATION:Europe/Berlin
BEGIN:DAYLIGHT
TZOFFSETFROM:+0100
TZOFFSETTO:+0200
TZNAME:CEST
DTSTART:19700329T020000
RRULE:FREQ=YEARLY;INTERVAL=1;BYDAY=-1SU;BYMONTH=3
END:DAYLIGHT
BEGIN:STANDARD
TZOFFSETFROM:+0200
TZOFFSETTO:+0100
TZNAME:CET
DTSTART:19701025T030000
RRULE:FREQ=YEARLY;INTERVAL=1;BYDAY=-1SU;BYMONTH=10
END:STANDARD
END:VTIMEZONE
BEGIN:VEVENT
DTSTAMP:20260421T134341
DTSTART;TZID=Europe/Berlin:20261005T180000
DTEND;TZID=Europe/Berlin:20261005T190000
UID:262P30208-20261005T180000@VHSGREIFSWALD
SUMMARY:Aktiv in den Frühling - Ganzkörperkräftigung (262P30208) 
LOCATION:Torgelow, Berufliche Schule, Ueckermünder Str. 17, 17358 Torgelow, Ueckermünder Str. 17, 17358 Torgelow
END:VEVENT
BEGIN:VEVENT
DTSTAMP:20260421T134341
DTSTART;TZID=Europe/Berlin:20261012T180000
DTEND;TZID=Europe/Berlin:20261012T190000
UID:262P30208-20261012T180000@VHSGREIFSWALD
SUMMARY:Aktiv in den Frühling - Ganzkörperkräftigung (262P30208) 
LOCATION:Torgelow, Berufliche Schule, Ueckermünder Str. 17, 17358 Torgelow, Ueckermünder Str. 17, 17358 Torgelow
END:VEVENT
BEGIN:VEVENT
DTSTAMP:20260421T134341
DTSTART;TZID=Europe/Berlin:20261026T180000
DTEND;TZID=Europe/Berlin:20261026T190000
UID:262P30208-20261026T180000@VHSGREIFSWALD
SUMMARY:Aktiv in den Frühling - Ganzkörperkräftigung (262P30208) 
LOCATION:Torgelow, Berufliche Schule, Ueckermünder Str. 17, 17358 Torgelow, Ueckermünder Str. 17, 17358 Torgelow
END:VEVENT
BEGIN:VEVENT
DTSTAMP:20260421T134341
DTSTART;TZID=Europe/Berlin:20261102T180000
DTEND;TZID=Europe/Berlin:20261102T190000
UID:262P30208-20261102T180000@VHSGREIFSWALD
SUMMARY:Aktiv in den Frühling - Ganzkörperkräftigung (262P30208) 
LOCATION:Torgelow, Berufliche Schule, Ueckermünder Str. 17, 17358 Torgelow, Ueckermünder Str. 17, 17358 Torgelow
END:VEVENT
BEGIN:VEVENT
DTSTAMP:20260421T134341
DTSTART;TZID=Europe/Berlin:20261109T180000
DTEND;TZID=Europe/Berlin:20261109T190000
UID:262P30208-20261109T180000@VHSGREIFSWALD
SUMMARY:Aktiv in den Frühling - Ganzkörperkräftigung (262P30208) 
LOCATION:Torgelow, Berufliche Schule, Ueckermünder Str. 17, 17358 Torgelow, Ueckermünder Str. 17, 17358 Torgelow
END:VEVENT
BEGIN:VEVENT
DTSTAMP:20260421T134341
DTSTART;TZID=Europe/Berlin:20261116T180000
DTEND;TZID=Europe/Berlin:20261116T190000
UID:262P30208-20261116T180000@VHSGREIFSWALD
SUMMARY:Aktiv in den Frühling - Ganzkörperkräftigung (262P30208) 
LOCATION:Torgelow, Berufliche Schule, Ueckermünder Str. 17, 17358 Torgelow, Ueckermünder Str. 17, 17358 Torgelow
END:VEVENT
BEGIN:VEVENT
DTSTAMP:20260421T134341
DTSTART;TZID=Europe/Berlin:20261123T180000
DTEND;TZID=Europe/Berlin:20261123T190000
UID:262P30208-20261123T180000@VHSGREIFSWALD
SUMMARY:Aktiv in den Frühling - Ganzkörperkräftigung (262P30208) 
LOCATION:Torgelow, Berufliche Schule, Ueckermünder Str. 17, 17358 Torgelow, Ueckermünder Str. 17, 17358 Torgelow
END:VEVENT
BEGIN:VEVENT
DTSTAMP:20260421T134341
DTSTART;TZID=Europe/Berlin:20261130T180000
DTEND;TZID=Europe/Berlin:20261130T190000
UID:262P30208-20261130T180000@VHSGREIFSWALD
SUMMARY:Aktiv in den Frühling - Ganzkörperkräftigung (262P30208) 
LOCATION:Torgelow, Berufliche Schule, Ueckermünder Str. 17, 17358 Torgelow, Ueckermünder Str. 17, 17358 Torgelow
END:VEVENT
BEGIN:VEVENT
DTSTAMP:20260421T134341
DTSTART;TZID=Europe/Berlin:20261207T180000
DTEND;TZID=Europe/Berlin:20261207T190000
UID:262P30208-20261207T180000@VHSGREIFSWALD
SUMMARY:Aktiv in den Frühling - Ganzkörperkräftigung (262P30208) 
LOCATION:Torgelow, Berufliche Schule, Ueckermünder Str. 17, 17358 Torgelow, Ueckermünder Str. 17, 17358 Torgelow
END:VEVENT
END:VCALENDAR