BEGIN:VCALENDAR
VERSION:2.0
PRODID:https://www.kufer.de/kuferweb / DE
METHOD:PUBLISH
CALSCALE:GREGORIAN
X-WR-TIMEZONE:Europe/Berlin
BEGIN:VTIMEZONE
TZID:Europe/Berlin
X-LIC-LOCATION:Europe/Berlin
BEGIN:DAYLIGHT
TZOFFSETFROM:+0100
TZOFFSETTO:+0200
TZNAME:CEST
DTSTART:19700329T020000
RRULE:FREQ=YEARLY;INTERVAL=1;BYDAY=-1SU;BYMONTH=3
END:DAYLIGHT
BEGIN:STANDARD
TZOFFSETFROM:+0200
TZOFFSETTO:+0100
TZNAME:CET
DTSTART:19701025T030000
RRULE:FREQ=YEARLY;INTERVAL=1;BYDAY=-1SU;BYMONTH=10
END:STANDARD
END:VTIMEZONE
BEGIN:VEVENT
DTSTAMP:20260422T114302
DTSTART;TZID=Europe/Berlin:20261107T100000
DTEND;TZID=Europe/Berlin:20261107T143000
UID:262G20701-20261107T100000@VHSGREIFSWALD
SUMMARY:Kombikurs Kinderschminken - Grundlagen und Profitechniken (Midi-Kurs) (262G20701) 
LOCATION:VHS in Greifswald, Raum 1.1, Martin-Luther-Straße 7a, 17489 Greifswald
END:VEVENT
BEGIN:VEVENT
DTSTAMP:20260422T114302
DTSTART;TZID=Europe/Berlin:20261121T100000
DTEND;TZID=Europe/Berlin:20261121T143000
UID:262G20701-20261121T100000@VHSGREIFSWALD
SUMMARY:Kombikurs Kinderschminken - Grundlagen und Profitechniken (Midi-Kurs) (262G20701) 
LOCATION:VHS in Greifswald, Raum 1.1, Martin-Luther-Straße 7a, 17489 Greifswald
END:VEVENT
END:VCALENDAR