BEGIN:VCALENDAR
VERSION:2.0
PRODID:https://www.kufer.de/kuferweb / DE
METHOD:PUBLISH
CALSCALE:GREGORIAN
X-WR-TIMEZONE:Europe/Berlin
BEGIN:VTIMEZONE
TZID:Europe/Berlin
X-LIC-LOCATION:Europe/Berlin
BEGIN:DAYLIGHT
TZOFFSETFROM:+0100
TZOFFSETTO:+0200
TZNAME:CEST
DTSTART:19700329T020000
RRULE:FREQ=YEARLY;INTERVAL=1;BYDAY=-1SU;BYMONTH=3
END:DAYLIGHT
BEGIN:STANDARD
TZOFFSETFROM:+0200
TZOFFSETTO:+0100
TZNAME:CET
DTSTART:19701025T030000
RRULE:FREQ=YEARLY;INTERVAL=1;BYDAY=-1SU;BYMONTH=10
END:STANDARD
END:VTIMEZONE
BEGIN:VEVENT
DTSTAMP:20260420T081052
DTSTART;TZID=Europe/Berlin:20260226T181500
DTEND;TZID=Europe/Berlin:20260226T201500
UID:261P440410-20260226T181500@VHSGREIFSWALD
SUMMARY:Deutsch C1 (261P440410) 
LOCATION:VHS in Pasewalk, Raum 302, Gemeindewiesenweg 8, 17309 Pasewalk
END:VEVENT
BEGIN:VEVENT
DTSTAMP:20260420T081052
DTSTART;TZID=Europe/Berlin:20260305T181500
DTEND;TZID=Europe/Berlin:20260305T201500
UID:261P440410-20260305T181500@VHSGREIFSWALD
SUMMARY:Deutsch C1 (261P440410) 
LOCATION:VHS in Pasewalk, Raum 302, Gemeindewiesenweg 8, 17309 Pasewalk
END:VEVENT
BEGIN:VEVENT
DTSTAMP:20260420T081052
DTSTART;TZID=Europe/Berlin:20260312T181500
DTEND;TZID=Europe/Berlin:20260312T201500
UID:261P440410-20260312T181500@VHSGREIFSWALD
SUMMARY:Deutsch C1 (261P440410) 
LOCATION:VHS in Pasewalk, Raum 302, Gemeindewiesenweg 8, 17309 Pasewalk
END:VEVENT
BEGIN:VEVENT
DTSTAMP:20260420T081052
DTSTART;TZID=Europe/Berlin:20260319T181500
DTEND;TZID=Europe/Berlin:20260319T201500
UID:261P440410-20260319T181500@VHSGREIFSWALD
SUMMARY:Deutsch C1 (261P440410) 
LOCATION:VHS in Pasewalk, Raum 302, Gemeindewiesenweg 8, 17309 Pasewalk
END:VEVENT
BEGIN:VEVENT
DTSTAMP:20260420T081052
DTSTART;TZID=Europe/Berlin:20260326T181500
DTEND;TZID=Europe/Berlin:20260326T201500
UID:261P440410-20260326T181500@VHSGREIFSWALD
SUMMARY:Deutsch C1 (261P440410) 
LOCATION:VHS in Pasewalk, Raum 302, Gemeindewiesenweg 8, 17309 Pasewalk
END:VEVENT
BEGIN:VEVENT
DTSTAMP:20260420T081052
DTSTART;TZID=Europe/Berlin:20260409T181500
DTEND;TZID=Europe/Berlin:20260409T201500
UID:261P440410-20260409T181500@VHSGREIFSWALD
SUMMARY:Deutsch C1 (261P440410) 
LOCATION:VHS in Pasewalk, Raum 302, Gemeindewiesenweg 8, 17309 Pasewalk
END:VEVENT
BEGIN:VEVENT
DTSTAMP:20260420T081052
DTSTART;TZID=Europe/Berlin:20260416T181500
DTEND;TZID=Europe/Berlin:20260416T201500
UID:261P440410-20260416T181500@VHSGREIFSWALD
SUMMARY:Deutsch C1 (261P440410) 
LOCATION:VHS in Pasewalk, Raum 308, Gemeindewiesenweg 8, 17309 Pasewalk
END:VEVENT
BEGIN:VEVENT
DTSTAMP:20260420T081052
DTSTART;TZID=Europe/Berlin:20260423T181500
DTEND;TZID=Europe/Berlin:20260423T201500
UID:261P440410-20260423T181500@VHSGREIFSWALD
SUMMARY:Deutsch C1 (261P440410) 
LOCATION:VHS in Pasewalk, Raum 302, Gemeindewiesenweg 8, 17309 Pasewalk
END:VEVENT
BEGIN:VEVENT
DTSTAMP:20260420T081052
DTSTART;TZID=Europe/Berlin:20260430T181500
DTEND;TZID=Europe/Berlin:20260430T201500
UID:261P440410-20260430T181500@VHSGREIFSWALD
SUMMARY:Deutsch C1 (261P440410) 
LOCATION:VHS in Pasewalk, Raum 302, Gemeindewiesenweg 8, 17309 Pasewalk
END:VEVENT
BEGIN:VEVENT
DTSTAMP:20260420T081052
DTSTART;TZID=Europe/Berlin:20260507T181500
DTEND;TZID=Europe/Berlin:20260507T201500
UID:261P440410-20260507T181500@VHSGREIFSWALD
SUMMARY:Deutsch C1 (261P440410) 
LOCATION:VHS in Pasewalk, Raum 302, Gemeindewiesenweg 8, 17309 Pasewalk
END:VEVENT
BEGIN:VEVENT
DTSTAMP:20260420T081052
DTSTART;TZID=Europe/Berlin:20260521T181500
DTEND;TZID=Europe/Berlin:20260521T201500
UID:261P440410-20260521T181500@VHSGREIFSWALD
SUMMARY:Deutsch C1 (261P440410) 
LOCATION:VHS in Pasewalk, Raum 302, Gemeindewiesenweg 8, 17309 Pasewalk
END:VEVENT
BEGIN:VEVENT
DTSTAMP:20260420T081052
DTSTART;TZID=Europe/Berlin:20260528T181500
DTEND;TZID=Europe/Berlin:20260528T201500
UID:261P440410-20260528T181500@VHSGREIFSWALD
SUMMARY:Deutsch C1 (261P440410) 
LOCATION:VHS in Pasewalk, Raum 302, Gemeindewiesenweg 8, 17309 Pasewalk
END:VEVENT
END:VCALENDAR