BEGIN:VCALENDAR
VERSION:2.0
PRODID:https://www.kufer.de/kuferweb / DE
METHOD:PUBLISH
CALSCALE:GREGORIAN
X-WR-TIMEZONE:Europe/Berlin
BEGIN:VTIMEZONE
TZID:Europe/Berlin
X-LIC-LOCATION:Europe/Berlin
BEGIN:DAYLIGHT
TZOFFSETFROM:+0100
TZOFFSETTO:+0200
TZNAME:CEST
DTSTART:19700329T020000
RRULE:FREQ=YEARLY;INTERVAL=1;BYDAY=-1SU;BYMONTH=3
END:DAYLIGHT
BEGIN:STANDARD
TZOFFSETFROM:+0200
TZOFFSETTO:+0100
TZNAME:CET
DTSTART:19701025T030000
RRULE:FREQ=YEARLY;INTERVAL=1;BYDAY=-1SU;BYMONTH=10
END:STANDARD
END:VTIMEZONE
BEGIN:VEVENT
DTSTAMP:20260421T124554
DTSTART;TZID=Europe/Berlin:20260413T100000
DTEND;TZID=Europe/Berlin:20260413T113000
UID:261P41706-20260413T100000@VHSGREIFSWALD
SUMMARY:Polnisch für Senioren (Starterkurs) (261P41706) 
LOCATION:VHS in Pasewalk, Raum 107, Gemeindewiesenweg 8, 17309 Pasewalk
END:VEVENT
BEGIN:VEVENT
DTSTAMP:20260421T124554
DTSTART;TZID=Europe/Berlin:20260428T100000
DTEND;TZID=Europe/Berlin:20260428T113000
UID:261P41706-20260428T100000@VHSGREIFSWALD
DESCRIPTION:Ersatz für Ausfall am 20.04.2026
SUMMARY:Polnisch für Senioren (Starterkurs) (261P41706) 
LOCATION:VHS in Pasewalk, Raum 107, Gemeindewiesenweg 8, 17309 Pasewalk
END:VEVENT
BEGIN:VEVENT
DTSTAMP:20260421T124554
DTSTART;TZID=Europe/Berlin:20260504T100000
DTEND;TZID=Europe/Berlin:20260504T113000
UID:261P41706-20260504T100000@VHSGREIFSWALD
SUMMARY:Polnisch für Senioren (Starterkurs) (261P41706) 
LOCATION:VHS in Pasewalk, Raum 107, Gemeindewiesenweg 8, 17309 Pasewalk
END:VEVENT
BEGIN:VEVENT
DTSTAMP:20260421T124554
DTSTART;TZID=Europe/Berlin:20260511T100000
DTEND;TZID=Europe/Berlin:20260511T113000
UID:261P41706-20260511T100000@VHSGREIFSWALD
SUMMARY:Polnisch für Senioren (Starterkurs) (261P41706) 
LOCATION:VHS in Pasewalk, Raum 107, Gemeindewiesenweg 8, 17309 Pasewalk
END:VEVENT
BEGIN:VEVENT
DTSTAMP:20260421T124554
DTSTART;TZID=Europe/Berlin:20260518T100000
DTEND;TZID=Europe/Berlin:20260518T113000
UID:261P41706-20260518T100000@VHSGREIFSWALD
SUMMARY:Polnisch für Senioren (Starterkurs) (261P41706) 
LOCATION:VHS in Pasewalk, Raum 107, Gemeindewiesenweg 8, 17309 Pasewalk
END:VEVENT
END:VCALENDAR