BEGIN:VCALENDAR
VERSION:2.0
PRODID:https://www.kufer.de/kuferweb / DE
METHOD:PUBLISH
CALSCALE:GREGORIAN
X-WR-TIMEZONE:Europe/Berlin
BEGIN:VTIMEZONE
TZID:Europe/Berlin
X-LIC-LOCATION:Europe/Berlin
BEGIN:DAYLIGHT
TZOFFSETFROM:+0100
TZOFFSETTO:+0200
TZNAME:CEST
DTSTART:19700329T020000
RRULE:FREQ=YEARLY;INTERVAL=1;BYDAY=-1SU;BYMONTH=3
END:DAYLIGHT
BEGIN:STANDARD
TZOFFSETFROM:+0200
TZOFFSETTO:+0100
TZNAME:CET
DTSTART:19701025T030000
RRULE:FREQ=YEARLY;INTERVAL=1;BYDAY=-1SU;BYMONTH=10
END:STANDARD
END:VTIMEZONE
BEGIN:VEVENT
DTSTAMP:20260420T080554
DTSTART;TZID=Europe/Berlin:20260519T170000
DTEND;TZID=Europe/Berlin:20260519T183000
UID:261P40604-20260519T170000@VHSGREIFSWALD
SUMMARY:Englisch - mit Vorkenntnissen A1.2  (261P40604) 
LOCATION:VHS in Pasewalk, Raum 208, Gemeindewiesenweg 8, 17309 Pasewalk
END:VEVENT
BEGIN:VEVENT
DTSTAMP:20260420T080554
DTSTART;TZID=Europe/Berlin:20260602T170000
DTEND;TZID=Europe/Berlin:20260602T183000
UID:261P40604-20260602T170000@VHSGREIFSWALD
SUMMARY:Englisch - mit Vorkenntnissen A1.2  (261P40604) 
LOCATION:VHS in Pasewalk, Raum 208, Gemeindewiesenweg 8, 17309 Pasewalk
END:VEVENT
BEGIN:VEVENT
DTSTAMP:20260420T080554
DTSTART;TZID=Europe/Berlin:20260609T170000
DTEND;TZID=Europe/Berlin:20260609T183000
UID:261P40604-20260609T170000@VHSGREIFSWALD
SUMMARY:Englisch - mit Vorkenntnissen A1.2  (261P40604) 
LOCATION:VHS in Pasewalk, Raum 208, Gemeindewiesenweg 8, 17309 Pasewalk
END:VEVENT
BEGIN:VEVENT
DTSTAMP:20260420T080554
DTSTART;TZID=Europe/Berlin:20260616T170000
DTEND;TZID=Europe/Berlin:20260616T183000
UID:261P40604-20260616T170000@VHSGREIFSWALD
SUMMARY:Englisch - mit Vorkenntnissen A1.2  (261P40604) 
LOCATION:VHS in Pasewalk, Raum 208, Gemeindewiesenweg 8, 17309 Pasewalk
END:VEVENT
BEGIN:VEVENT
DTSTAMP:20260420T080554
DTSTART;TZID=Europe/Berlin:20260623T170000
DTEND;TZID=Europe/Berlin:20260623T183000
UID:261P40604-20260623T170000@VHSGREIFSWALD
SUMMARY:Englisch - mit Vorkenntnissen A1.2  (261P40604) 
LOCATION:VHS in Pasewalk, Raum 208, Gemeindewiesenweg 8, 17309 Pasewalk
END:VEVENT
END:VCALENDAR