BEGIN:VCALENDAR
VERSION:2.0
PRODID:https://www.kufer.de/kuferweb / DE
METHOD:PUBLISH
CALSCALE:GREGORIAN
X-WR-TIMEZONE:Europe/Berlin
BEGIN:VTIMEZONE
TZID:Europe/Berlin
X-LIC-LOCATION:Europe/Berlin
BEGIN:DAYLIGHT
TZOFFSETFROM:+0100
TZOFFSETTO:+0200
TZNAME:CEST
DTSTART:19700329T020000
RRULE:FREQ=YEARLY;INTERVAL=1;BYDAY=-1SU;BYMONTH=3
END:DAYLIGHT
BEGIN:STANDARD
TZOFFSETFROM:+0200
TZOFFSETTO:+0100
TZNAME:CET
DTSTART:19701025T030000
RRULE:FREQ=YEARLY;INTERVAL=1;BYDAY=-1SU;BYMONTH=10
END:STANDARD
END:VTIMEZONE
BEGIN:VEVENT
DTSTAMP:20260424T214253
DTSTART;TZID=Europe/Berlin:20260422T163000
DTEND;TZID=Europe/Berlin:20260422T180000
UID:261G42214-20260422T163000@VHSGREIFSWALD
SUMMARY:Spanisch A2.1 (261G42214) 
LOCATION:VHS in Greifswald, Raum 2.4, Martin-Luther-Straße 7a, 17489 Greifswald
END:VEVENT
BEGIN:VEVENT
DTSTAMP:20260424T214253
DTSTART;TZID=Europe/Berlin:20260506T163000
DTEND;TZID=Europe/Berlin:20260506T180000
UID:261G42214-20260506T163000@VHSGREIFSWALD
SUMMARY:Spanisch A2.1 (261G42214) 
LOCATION:VHS in Greifswald, Raum 2.4, Martin-Luther-Straße 7a, 17489 Greifswald
END:VEVENT
BEGIN:VEVENT
DTSTAMP:20260424T214253
DTSTART;TZID=Europe/Berlin:20260513T163000
DTEND;TZID=Europe/Berlin:20260513T180000
UID:261G42214-20260513T163000@VHSGREIFSWALD
SUMMARY:Spanisch A2.1 (261G42214) 
LOCATION:VHS in Greifswald, Raum 2.4, Martin-Luther-Straße 7a, 17489 Greifswald
END:VEVENT
BEGIN:VEVENT
DTSTAMP:20260424T214253
DTSTART;TZID=Europe/Berlin:20260520T163000
DTEND;TZID=Europe/Berlin:20260520T180000
UID:261G42214-20260520T163000@VHSGREIFSWALD
SUMMARY:Spanisch A2.1 (261G42214) 
LOCATION:VHS in Greifswald, Raum 2.4, Martin-Luther-Straße 7a, 17489 Greifswald
END:VEVENT
BEGIN:VEVENT
DTSTAMP:20260424T214253
DTSTART;TZID=Europe/Berlin:20260527T163000
DTEND;TZID=Europe/Berlin:20260527T180000
UID:261G42214-20260527T163000@VHSGREIFSWALD
SUMMARY:Spanisch A2.1 (261G42214) 
LOCATION:VHS in Greifswald, Raum 2.4, Martin-Luther-Straße 7a, 17489 Greifswald
END:VEVENT
BEGIN:VEVENT
DTSTAMP:20260424T214253
DTSTART;TZID=Europe/Berlin:20260603T163000
DTEND;TZID=Europe/Berlin:20260603T180000
UID:261G42214-20260603T163000@VHSGREIFSWALD
SUMMARY:Spanisch A2.1 (261G42214) 
LOCATION:VHS in Greifswald, Raum 2.4, Martin-Luther-Straße 7a, 17489 Greifswald
END:VEVENT
BEGIN:VEVENT
DTSTAMP:20260424T214253
DTSTART;TZID=Europe/Berlin:20260610T163000
DTEND;TZID=Europe/Berlin:20260610T180000
UID:261G42214-20260610T163000@VHSGREIFSWALD
SUMMARY:Spanisch A2.1 (261G42214) 
LOCATION:VHS in Greifswald, Raum 2.4, Martin-Luther-Straße 7a, 17489 Greifswald
END:VEVENT
BEGIN:VEVENT
DTSTAMP:20260424T214253
DTSTART;TZID=Europe/Berlin:20260617T163000
DTEND;TZID=Europe/Berlin:20260617T180000
UID:261G42214-20260617T163000@VHSGREIFSWALD
SUMMARY:Spanisch A2.1 (261G42214) 
LOCATION:VHS in Greifswald, Raum 2.4, Martin-Luther-Straße 7a, 17489 Greifswald
END:VEVENT
BEGIN:VEVENT
DTSTAMP:20260424T214253
DTSTART;TZID=Europe/Berlin:20260624T163000
DTEND;TZID=Europe/Berlin:20260624T180000
UID:261G42214-20260624T163000@VHSGREIFSWALD
SUMMARY:Spanisch A2.1 (261G42214) 
LOCATION:VHS in Greifswald, Raum 2.4, Martin-Luther-Straße 7a, 17489 Greifswald
END:VEVENT
BEGIN:VEVENT
DTSTAMP:20260424T214253
DTSTART;TZID=Europe/Berlin:20260701T163000
DTEND;TZID=Europe/Berlin:20260701T180000
UID:261G42214-20260701T163000@VHSGREIFSWALD
SUMMARY:Spanisch A2.1 (261G42214) 
LOCATION:VHS in Greifswald, Raum 2.4, Martin-Luther-Straße 7a, 17489 Greifswald
END:VEVENT
END:VCALENDAR