BEGIN:VCALENDAR
VERSION:2.0
PRODID:https://www.kufer.de/kuferweb / DE
METHOD:PUBLISH
CALSCALE:GREGORIAN
X-WR-TIMEZONE:Europe/Berlin
BEGIN:VTIMEZONE
TZID:Europe/Berlin
X-LIC-LOCATION:Europe/Berlin
BEGIN:DAYLIGHT
TZOFFSETFROM:+0100
TZOFFSETTO:+0200
TZNAME:CEST
DTSTART:19700329T020000
RRULE:FREQ=YEARLY;INTERVAL=1;BYDAY=-1SU;BYMONTH=3
END:DAYLIGHT
BEGIN:STANDARD
TZOFFSETFROM:+0200
TZOFFSETTO:+0100
TZNAME:CET
DTSTART:19701025T030000
RRULE:FREQ=YEARLY;INTERVAL=1;BYDAY=-1SU;BYMONTH=10
END:STANDARD
END:VTIMEZONE
BEGIN:VEVENT
DTSTAMP:20260420T081052
DTSTART;TZID=Europe/Berlin:20260312T184500
DTEND;TZID=Europe/Berlin:20260312T201500
UID:261G40611-20260312T184500@VHSGREIFSWALD
SUMMARY:Englisch A2.1 (261G40611) 
LOCATION:VHS in Greifswald, Raum 2.4, Martin-Luther-Straße 7a, 17489 Greifswald
END:VEVENT
BEGIN:VEVENT
DTSTAMP:20260420T081052
DTSTART;TZID=Europe/Berlin:20260319T184500
DTEND;TZID=Europe/Berlin:20260319T201500
UID:261G40611-20260319T184500@VHSGREIFSWALD
SUMMARY:Englisch A2.1 (261G40611) 
LOCATION:VHS in Greifswald, Raum 2.4, Martin-Luther-Straße 7a, 17489 Greifswald
END:VEVENT
BEGIN:VEVENT
DTSTAMP:20260420T081052
DTSTART;TZID=Europe/Berlin:20260326T184500
DTEND;TZID=Europe/Berlin:20260326T201500
UID:261G40611-20260326T184500@VHSGREIFSWALD
SUMMARY:Englisch A2.1 (261G40611) 
LOCATION:VHS in Greifswald, Raum 2.5, Martin-Luther-Straße 7a, 17489 Greifswald
END:VEVENT
BEGIN:VEVENT
DTSTAMP:20260420T081052
DTSTART;TZID=Europe/Berlin:20260416T184500
DTEND;TZID=Europe/Berlin:20260416T201500
UID:261G40611-20260416T184500@VHSGREIFSWALD
SUMMARY:Englisch A2.1 (261G40611) 
LOCATION:VHS in Greifswald, Raum 2.5, Martin-Luther-Straße 7a, 17489 Greifswald
END:VEVENT
BEGIN:VEVENT
DTSTAMP:20260420T081052
DTSTART;TZID=Europe/Berlin:20260423T184500
DTEND;TZID=Europe/Berlin:20260423T201500
UID:261G40611-20260423T184500@VHSGREIFSWALD
SUMMARY:Englisch A2.1 (261G40611) 
LOCATION:VHS in Greifswald, Raum 2.5, Martin-Luther-Straße 7a, 17489 Greifswald
END:VEVENT
BEGIN:VEVENT
DTSTAMP:20260420T081052
DTSTART;TZID=Europe/Berlin:20260430T184500
DTEND;TZID=Europe/Berlin:20260430T201500
UID:261G40611-20260430T184500@VHSGREIFSWALD
SUMMARY:Englisch A2.1 (261G40611) 
LOCATION:VHS in Greifswald, Raum 2.5, Martin-Luther-Straße 7a, 17489 Greifswald
END:VEVENT
BEGIN:VEVENT
DTSTAMP:20260420T081052
DTSTART;TZID=Europe/Berlin:20260507T184500
DTEND;TZID=Europe/Berlin:20260507T201500
UID:261G40611-20260507T184500@VHSGREIFSWALD
SUMMARY:Englisch A2.1 (261G40611) 
LOCATION:VHS in Greifswald, Raum 2.5, Martin-Luther-Straße 7a, 17489 Greifswald
END:VEVENT
BEGIN:VEVENT
DTSTAMP:20260420T081052
DTSTART;TZID=Europe/Berlin:20260521T184500
DTEND;TZID=Europe/Berlin:20260521T201500
UID:261G40611-20260521T184500@VHSGREIFSWALD
SUMMARY:Englisch A2.1 (261G40611) 
LOCATION:VHS in Greifswald, Raum 2.5, Martin-Luther-Straße 7a, 17489 Greifswald
END:VEVENT
BEGIN:VEVENT
DTSTAMP:20260420T081052
DTSTART;TZID=Europe/Berlin:20260604T184500
DTEND;TZID=Europe/Berlin:20260604T201500
UID:261G40611-20260604T184500@VHSGREIFSWALD
SUMMARY:Englisch A2.1 (261G40611) 
LOCATION:VHS in Greifswald, Raum 2.5, Martin-Luther-Straße 7a, 17489 Greifswald
END:VEVENT
BEGIN:VEVENT
DTSTAMP:20260420T081052
DTSTART;TZID=Europe/Berlin:20260611T184500
DTEND;TZID=Europe/Berlin:20260611T201500
UID:261G40611-20260611T184500@VHSGREIFSWALD
DESCRIPTION:Ersatz für 9.4. MR
SUMMARY:Englisch A2.1 (261G40611) 
LOCATION:VHS in Greifswald, Raum 2.5, Martin-Luther-Straße 7a, 17489 Greifswald
END:VEVENT
END:VCALENDAR