BEGIN:VCALENDAR
VERSION:2.0
PRODID:https://www.kufer.de/kuferweb / DE
METHOD:PUBLISH
CALSCALE:GREGORIAN
X-WR-TIMEZONE:Europe/Berlin
BEGIN:VTIMEZONE
TZID:Europe/Berlin
X-LIC-LOCATION:Europe/Berlin
BEGIN:DAYLIGHT
TZOFFSETFROM:+0100
TZOFFSETTO:+0200
TZNAME:CEST
DTSTART:19700329T020000
RRULE:FREQ=YEARLY;INTERVAL=1;BYDAY=-1SU;BYMONTH=3
END:DAYLIGHT
BEGIN:STANDARD
TZOFFSETFROM:+0200
TZOFFSETTO:+0100
TZNAME:CET
DTSTART:19701025T030000
RRULE:FREQ=YEARLY;INTERVAL=1;BYDAY=-1SU;BYMONTH=10
END:STANDARD
END:VTIMEZONE
BEGIN:VEVENT
DTSTAMP:20260420T081718
DTSTART;TZID=Europe/Berlin:20260414T084500
DTEND;TZID=Europe/Berlin:20260414T120000
UID:261G40445-20260414T084500@VHSGREIFSWALD
SUMMARY:Deutsch B2.1 (Folgekurs) (261G40445) 
LOCATION:VHS in Greifswald, Raum 2.5, Martin-Luther-Straße 7a, 17489 Greifswald
END:VEVENT
BEGIN:VEVENT
DTSTAMP:20260420T081718
DTSTART;TZID=Europe/Berlin:20260416T084500
DTEND;TZID=Europe/Berlin:20260416T120000
UID:261G40445-20260416T084500@VHSGREIFSWALD
SUMMARY:Deutsch B2.1 (Folgekurs) (261G40445) 
LOCATION:VHS in Greifswald, Raum 2.5, Martin-Luther-Straße 7a, 17489 Greifswald
END:VEVENT
BEGIN:VEVENT
DTSTAMP:20260420T081718
DTSTART;TZID=Europe/Berlin:20260421T084500
DTEND;TZID=Europe/Berlin:20260421T120000
UID:261G40445-20260421T084500@VHSGREIFSWALD
SUMMARY:Deutsch B2.1 (Folgekurs) (261G40445) 
LOCATION:VHS in Greifswald, Raum 2.5, Martin-Luther-Straße 7a, 17489 Greifswald
END:VEVENT
BEGIN:VEVENT
DTSTAMP:20260420T081718
DTSTART;TZID=Europe/Berlin:20260423T084500
DTEND;TZID=Europe/Berlin:20260423T120000
UID:261G40445-20260423T084500@VHSGREIFSWALD
SUMMARY:Deutsch B2.1 (Folgekurs) (261G40445) 
LOCATION:VHS in Greifswald, Raum 2.5, Martin-Luther-Straße 7a, 17489 Greifswald
END:VEVENT
BEGIN:VEVENT
DTSTAMP:20260420T081718
DTSTART;TZID=Europe/Berlin:20260428T084500
DTEND;TZID=Europe/Berlin:20260428T120000
UID:261G40445-20260428T084500@VHSGREIFSWALD
SUMMARY:Deutsch B2.1 (Folgekurs) (261G40445) 
LOCATION:VHS in Greifswald, Raum 2.5, Martin-Luther-Straße 7a, 17489 Greifswald
END:VEVENT
BEGIN:VEVENT
DTSTAMP:20260420T081718
DTSTART;TZID=Europe/Berlin:20260430T084500
DTEND;TZID=Europe/Berlin:20260430T120000
UID:261G40445-20260430T084500@VHSGREIFSWALD
SUMMARY:Deutsch B2.1 (Folgekurs) (261G40445) 
LOCATION:VHS in Greifswald, Raum 2.5, Martin-Luther-Straße 7a, 17489 Greifswald
END:VEVENT
BEGIN:VEVENT
DTSTAMP:20260420T081718
DTSTART;TZID=Europe/Berlin:20260505T084500
DTEND;TZID=Europe/Berlin:20260505T120000
UID:261G40445-20260505T084500@VHSGREIFSWALD
SUMMARY:Deutsch B2.1 (Folgekurs) (261G40445) 
LOCATION:VHS in Greifswald, Raum 2.5, Martin-Luther-Straße 7a, 17489 Greifswald
END:VEVENT
BEGIN:VEVENT
DTSTAMP:20260420T081718
DTSTART;TZID=Europe/Berlin:20260507T084500
DTEND;TZID=Europe/Berlin:20260507T120000
UID:261G40445-20260507T084500@VHSGREIFSWALD
SUMMARY:Deutsch B2.1 (Folgekurs) (261G40445) 
LOCATION:VHS in Greifswald, Raum 2.5, Martin-Luther-Straße 7a, 17489 Greifswald
END:VEVENT
BEGIN:VEVENT
DTSTAMP:20260420T081718
DTSTART;TZID=Europe/Berlin:20260512T084500
DTEND;TZID=Europe/Berlin:20260512T120000
UID:261G40445-20260512T084500@VHSGREIFSWALD
SUMMARY:Deutsch B2.1 (Folgekurs) (261G40445) 
LOCATION:VHS in Greifswald, Raum 2.5, Martin-Luther-Straße 7a, 17489 Greifswald
END:VEVENT
BEGIN:VEVENT
DTSTAMP:20260420T081718
DTSTART;TZID=Europe/Berlin:20260519T084500
DTEND;TZID=Europe/Berlin:20260519T120000
UID:261G40445-20260519T084500@VHSGREIFSWALD
SUMMARY:Deutsch B2.1 (Folgekurs) (261G40445) 
LOCATION:VHS in Greifswald, Raum 2.5, Martin-Luther-Straße 7a, 17489 Greifswald
END:VEVENT
BEGIN:VEVENT
DTSTAMP:20260420T081718
DTSTART;TZID=Europe/Berlin:20260521T084500
DTEND;TZID=Europe/Berlin:20260521T120000
UID:261G40445-20260521T084500@VHSGREIFSWALD
SUMMARY:Deutsch B2.1 (Folgekurs) (261G40445) 
LOCATION:VHS in Greifswald, Raum 2.5, Martin-Luther-Straße 7a, 17489 Greifswald
END:VEVENT
BEGIN:VEVENT
DTSTAMP:20260420T081718
DTSTART;TZID=Europe/Berlin:20260528T084500
DTEND;TZID=Europe/Berlin:20260528T120000
UID:261G40445-20260528T084500@VHSGREIFSWALD
SUMMARY:Deutsch B2.1 (Folgekurs) (261G40445) 
LOCATION:VHS in Greifswald, Raum 2.5, Martin-Luther-Straße 7a, 17489 Greifswald
END:VEVENT
BEGIN:VEVENT
DTSTAMP:20260420T081718
DTSTART;TZID=Europe/Berlin:20260602T084500
DTEND;TZID=Europe/Berlin:20260602T120000
UID:261G40445-20260602T084500@VHSGREIFSWALD
SUMMARY:Deutsch B2.1 (Folgekurs) (261G40445) 
LOCATION:VHS in Greifswald, Raum 2.5, Martin-Luther-Straße 7a, 17489 Greifswald
END:VEVENT
BEGIN:VEVENT
DTSTAMP:20260420T081718
DTSTART;TZID=Europe/Berlin:20260604T084500
DTEND;TZID=Europe/Berlin:20260604T120000
UID:261G40445-20260604T084500@VHSGREIFSWALD
SUMMARY:Deutsch B2.1 (Folgekurs) (261G40445) 
LOCATION:VHS in Greifswald, Raum 2.5, Martin-Luther-Straße 7a, 17489 Greifswald
END:VEVENT
BEGIN:VEVENT
DTSTAMP:20260420T081718
DTSTART;TZID=Europe/Berlin:20260609T084500
DTEND;TZID=Europe/Berlin:20260609T120000
UID:261G40445-20260609T084500@VHSGREIFSWALD
SUMMARY:Deutsch B2.1 (Folgekurs) (261G40445) 
LOCATION:VHS in Greifswald, Raum 2.5, Martin-Luther-Straße 7a, 17489 Greifswald
END:VEVENT
BEGIN:VEVENT
DTSTAMP:20260420T081718
DTSTART;TZID=Europe/Berlin:20260611T084500
DTEND;TZID=Europe/Berlin:20260611T120000
UID:261G40445-20260611T084500@VHSGREIFSWALD
SUMMARY:Deutsch B2.1 (Folgekurs) (261G40445) 
LOCATION:VHS in Greifswald, Raum 2.5, Martin-Luther-Straße 7a, 17489 Greifswald
END:VEVENT
BEGIN:VEVENT
DTSTAMP:20260420T081718
DTSTART;TZID=Europe/Berlin:20260616T084500
DTEND;TZID=Europe/Berlin:20260616T120000
UID:261G40445-20260616T084500@VHSGREIFSWALD
SUMMARY:Deutsch B2.1 (Folgekurs) (261G40445) 
LOCATION:VHS in Greifswald, Raum 2.5, Martin-Luther-Straße 7a, 17489 Greifswald
END:VEVENT
BEGIN:VEVENT
DTSTAMP:20260420T081718
DTSTART;TZID=Europe/Berlin:20260618T084500
DTEND;TZID=Europe/Berlin:20260618T120000
UID:261G40445-20260618T084500@VHSGREIFSWALD
SUMMARY:Deutsch B2.1 (Folgekurs) (261G40445) 
LOCATION:VHS in Greifswald, Raum 2.5, Martin-Luther-Straße 7a, 17489 Greifswald
END:VEVENT
END:VCALENDAR