BEGIN:VCALENDAR
VERSION:2.0
PRODID:https://www.kufer.de/kuferweb / DE
METHOD:PUBLISH
CALSCALE:GREGORIAN
X-WR-TIMEZONE:Europe/Berlin
BEGIN:VTIMEZONE
TZID:Europe/Berlin
X-LIC-LOCATION:Europe/Berlin
BEGIN:DAYLIGHT
TZOFFSETFROM:+0100
TZOFFSETTO:+0200
TZNAME:CEST
DTSTART:19700329T020000
RRULE:FREQ=YEARLY;INTERVAL=1;BYDAY=-1SU;BYMONTH=3
END:DAYLIGHT
BEGIN:STANDARD
TZOFFSETFROM:+0200
TZOFFSETTO:+0100
TZNAME:CET
DTSTART:19701025T030000
RRULE:FREQ=YEARLY;INTERVAL=1;BYDAY=-1SU;BYMONTH=10
END:STANDARD
END:VTIMEZONE
BEGIN:VEVENT
DTSTAMP:20260420T081053
DTSTART;TZID=Europe/Berlin:20260409T173000
DTEND;TZID=Europe/Berlin:20260409T190000
UID:261G40437-20260409T173000@VHSGREIFSWALD
SUMMARY:Deutsch B1.1 (Folgekurs) (261G40437) 
LOCATION:VHS in Greifswald, Raum 2.6, Martin-Luther-Straße 7a, 17489 Greifswald
END:VEVENT
BEGIN:VEVENT
DTSTAMP:20260420T081053
DTSTART;TZID=Europe/Berlin:20260413T173000
DTEND;TZID=Europe/Berlin:20260413T190000
UID:261G40437-20260413T173000@VHSGREIFSWALD
SUMMARY:Deutsch B1.1 (Folgekurs) (261G40437) 
LOCATION:VHS in Greifswald, Raum 2.6, Martin-Luther-Straße 7a, 17489 Greifswald
END:VEVENT
BEGIN:VEVENT
DTSTAMP:20260420T081053
DTSTART;TZID=Europe/Berlin:20260416T173000
DTEND;TZID=Europe/Berlin:20260416T190000
UID:261G40437-20260416T173000@VHSGREIFSWALD
SUMMARY:Deutsch B1.1 (Folgekurs) (261G40437) 
LOCATION:VHS in Greifswald, Raum 2.6, Martin-Luther-Straße 7a, 17489 Greifswald
END:VEVENT
BEGIN:VEVENT
DTSTAMP:20260420T081053
DTSTART;TZID=Europe/Berlin:20260420T173000
DTEND;TZID=Europe/Berlin:20260420T190000
UID:261G40437-20260420T173000@VHSGREIFSWALD
SUMMARY:Deutsch B1.1 (Folgekurs) (261G40437) 
LOCATION:VHS in Greifswald, Raum 2.6, Martin-Luther-Straße 7a, 17489 Greifswald
END:VEVENT
BEGIN:VEVENT
DTSTAMP:20260420T081053
DTSTART;TZID=Europe/Berlin:20260423T173000
DTEND;TZID=Europe/Berlin:20260423T190000
UID:261G40437-20260423T173000@VHSGREIFSWALD
SUMMARY:Deutsch B1.1 (Folgekurs) (261G40437) 
LOCATION:VHS in Greifswald, Raum 2.6, Martin-Luther-Straße 7a, 17489 Greifswald
END:VEVENT
BEGIN:VEVENT
DTSTAMP:20260420T081053
DTSTART;TZID=Europe/Berlin:20260427T173000
DTEND;TZID=Europe/Berlin:20260427T190000
UID:261G40437-20260427T173000@VHSGREIFSWALD
SUMMARY:Deutsch B1.1 (Folgekurs) (261G40437) 
LOCATION:VHS in Greifswald, Raum 2.6, Martin-Luther-Straße 7a, 17489 Greifswald
END:VEVENT
BEGIN:VEVENT
DTSTAMP:20260420T081053
DTSTART;TZID=Europe/Berlin:20260430T173000
DTEND;TZID=Europe/Berlin:20260430T190000
UID:261G40437-20260430T173000@VHSGREIFSWALD
SUMMARY:Deutsch B1.1 (Folgekurs) (261G40437) 
LOCATION:VHS in Greifswald, Raum 2.6, Martin-Luther-Straße 7a, 17489 Greifswald
END:VEVENT
BEGIN:VEVENT
DTSTAMP:20260420T081053
DTSTART;TZID=Europe/Berlin:20260504T173000
DTEND;TZID=Europe/Berlin:20260504T190000
UID:261G40437-20260504T173000@VHSGREIFSWALD
SUMMARY:Deutsch B1.1 (Folgekurs) (261G40437) 
LOCATION:VHS in Greifswald, Raum 2.6, Martin-Luther-Straße 7a, 17489 Greifswald
END:VEVENT
BEGIN:VEVENT
DTSTAMP:20260420T081053
DTSTART;TZID=Europe/Berlin:20260507T173000
DTEND;TZID=Europe/Berlin:20260507T190000
UID:261G40437-20260507T173000@VHSGREIFSWALD
SUMMARY:Deutsch B1.1 (Folgekurs) (261G40437) 
LOCATION:VHS in Greifswald, Raum 2.6, Martin-Luther-Straße 7a, 17489 Greifswald
END:VEVENT
BEGIN:VEVENT
DTSTAMP:20260420T081053
DTSTART;TZID=Europe/Berlin:20260511T173000
DTEND;TZID=Europe/Berlin:20260511T190000
UID:261G40437-20260511T173000@VHSGREIFSWALD
SUMMARY:Deutsch B1.1 (Folgekurs) (261G40437) 
LOCATION:VHS in Greifswald, Raum 2.6, Martin-Luther-Straße 7a, 17489 Greifswald
END:VEVENT
BEGIN:VEVENT
DTSTAMP:20260420T081053
DTSTART;TZID=Europe/Berlin:20260518T173000
DTEND;TZID=Europe/Berlin:20260518T190000
UID:261G40437-20260518T173000@VHSGREIFSWALD
SUMMARY:Deutsch B1.1 (Folgekurs) (261G40437) 
LOCATION:VHS in Greifswald, Raum 2.6, Martin-Luther-Straße 7a, 17489 Greifswald
END:VEVENT
BEGIN:VEVENT
DTSTAMP:20260420T081053
DTSTART;TZID=Europe/Berlin:20260521T173000
DTEND;TZID=Europe/Berlin:20260521T190000
UID:261G40437-20260521T173000@VHSGREIFSWALD
SUMMARY:Deutsch B1.1 (Folgekurs) (261G40437) 
LOCATION:VHS in Greifswald, Raum 2.6, Martin-Luther-Straße 7a, 17489 Greifswald
END:VEVENT
BEGIN:VEVENT
DTSTAMP:20260420T081053
DTSTART;TZID=Europe/Berlin:20260528T173000
DTEND;TZID=Europe/Berlin:20260528T190000
UID:261G40437-20260528T173000@VHSGREIFSWALD
SUMMARY:Deutsch B1.1 (Folgekurs) (261G40437) 
LOCATION:VHS in Greifswald, Raum 2.6, Martin-Luther-Straße 7a, 17489 Greifswald
END:VEVENT
BEGIN:VEVENT
DTSTAMP:20260420T081053
DTSTART;TZID=Europe/Berlin:20260601T173000
DTEND;TZID=Europe/Berlin:20260601T190000
UID:261G40437-20260601T173000@VHSGREIFSWALD
SUMMARY:Deutsch B1.1 (Folgekurs) (261G40437) 
LOCATION:VHS in Greifswald, Raum 2.6, Martin-Luther-Straße 7a, 17489 Greifswald
END:VEVENT
BEGIN:VEVENT
DTSTAMP:20260420T081053
DTSTART;TZID=Europe/Berlin:20260604T173000
DTEND;TZID=Europe/Berlin:20260604T190000
UID:261G40437-20260604T173000@VHSGREIFSWALD
SUMMARY:Deutsch B1.1 (Folgekurs) (261G40437) 
LOCATION:VHS in Greifswald, Raum 2.6, Martin-Luther-Straße 7a, 17489 Greifswald
END:VEVENT
BEGIN:VEVENT
DTSTAMP:20260420T081053
DTSTART;TZID=Europe/Berlin:20260608T173000
DTEND;TZID=Europe/Berlin:20260608T190000
UID:261G40437-20260608T173000@VHSGREIFSWALD
SUMMARY:Deutsch B1.1 (Folgekurs) (261G40437) 
LOCATION:VHS in Greifswald, Raum 2.6, Martin-Luther-Straße 7a, 17489 Greifswald
END:VEVENT
BEGIN:VEVENT
DTSTAMP:20260420T081053
DTSTART;TZID=Europe/Berlin:20260615T173000
DTEND;TZID=Europe/Berlin:20260615T190000
UID:261G40437-20260615T173000@VHSGREIFSWALD
SUMMARY:Deutsch B1.1 (Folgekurs) (261G40437) 
LOCATION:VHS in Greifswald, Raum 2.6, Martin-Luther-Straße 7a, 17489 Greifswald
END:VEVENT
BEGIN:VEVENT
DTSTAMP:20260420T081053
DTSTART;TZID=Europe/Berlin:20260622T173000
DTEND;TZID=Europe/Berlin:20260622T190000
UID:261G40437-20260622T173000@VHSGREIFSWALD
SUMMARY:Deutsch B1.1 (Folgekurs) (261G40437) 
LOCATION:VHS in Greifswald, Raum 2.6, Martin-Luther-Straße 7a, 17489 Greifswald
END:VEVENT
END:VCALENDAR