BEGIN:VCALENDAR
VERSION:2.0
PRODID:https://www.kufer.de/kuferweb / DE
METHOD:PUBLISH
CALSCALE:GREGORIAN
X-WR-TIMEZONE:Europe/Berlin
BEGIN:VTIMEZONE
TZID:Europe/Berlin
X-LIC-LOCATION:Europe/Berlin
BEGIN:DAYLIGHT
TZOFFSETFROM:+0100
TZOFFSETTO:+0200
TZNAME:CEST
DTSTART:19700329T020000
RRULE:FREQ=YEARLY;INTERVAL=1;BYDAY=-1SU;BYMONTH=3
END:DAYLIGHT
BEGIN:STANDARD
TZOFFSETFROM:+0200
TZOFFSETTO:+0100
TZNAME:CET
DTSTART:19701025T030000
RRULE:FREQ=YEARLY;INTERVAL=1;BYDAY=-1SU;BYMONTH=10
END:STANDARD
END:VTIMEZONE
BEGIN:VEVENT
DTSTAMP:20260424T214236
DTSTART;TZID=Europe/Berlin:20260223T161500
DTEND;TZID=Europe/Berlin:20260223T174500
UID:261G30102-20260223T161500@VHSGREIFSWALD
SUMMARY:Qigong Shibashi Set 1 - zertifiziert* (261G30102) 
LOCATION:VHS in Greifswald, Turnhalle, Martin-Luther-Straße 7a, 17489 Greifswald
END:VEVENT
BEGIN:VEVENT
DTSTAMP:20260424T214236
DTSTART;TZID=Europe/Berlin:20260302T161500
DTEND;TZID=Europe/Berlin:20260302T174500
UID:261G30102-20260302T161500@VHSGREIFSWALD
SUMMARY:Qigong Shibashi Set 1 - zertifiziert* (261G30102) 
LOCATION:VHS in Greifswald, Turnhalle, Martin-Luther-Straße 7a, 17489 Greifswald
END:VEVENT
BEGIN:VEVENT
DTSTAMP:20260424T214236
DTSTART;TZID=Europe/Berlin:20260309T161500
DTEND;TZID=Europe/Berlin:20260309T174500
UID:261G30102-20260309T161500@VHSGREIFSWALD
SUMMARY:Qigong Shibashi Set 1 - zertifiziert* (261G30102) 
LOCATION:VHS in Greifswald, Turnhalle, Martin-Luther-Straße 7a, 17489 Greifswald
END:VEVENT
BEGIN:VEVENT
DTSTAMP:20260424T214236
DTSTART;TZID=Europe/Berlin:20260413T161500
DTEND;TZID=Europe/Berlin:20260413T174500
UID:261G30102-20260413T161500@VHSGREIFSWALD
SUMMARY:Qigong Shibashi Set 1 - zertifiziert* (261G30102) 
LOCATION:VHS in Greifswald, Turnhalle, Martin-Luther-Straße 7a, 17489 Greifswald
END:VEVENT
BEGIN:VEVENT
DTSTAMP:20260424T214236
DTSTART;TZID=Europe/Berlin:20260420T161500
DTEND;TZID=Europe/Berlin:20260420T174500
UID:261G30102-20260420T161500@VHSGREIFSWALD
SUMMARY:Qigong Shibashi Set 1 - zertifiziert* (261G30102) 
LOCATION:VHS in Greifswald, Turnhalle, Martin-Luther-Straße 7a, 17489 Greifswald
END:VEVENT
BEGIN:VEVENT
DTSTAMP:20260424T214236
DTSTART;TZID=Europe/Berlin:20260427T161500
DTEND;TZID=Europe/Berlin:20260427T174500
UID:261G30102-20260427T161500@VHSGREIFSWALD
SUMMARY:Qigong Shibashi Set 1 - zertifiziert* (261G30102) 
LOCATION:VHS in Greifswald, Turnhalle, Martin-Luther-Straße 7a, 17489 Greifswald
END:VEVENT
BEGIN:VEVENT
DTSTAMP:20260424T214236
DTSTART;TZID=Europe/Berlin:20260504T161500
DTEND;TZID=Europe/Berlin:20260504T174500
UID:261G30102-20260504T161500@VHSGREIFSWALD
SUMMARY:Qigong Shibashi Set 1 - zertifiziert* (261G30102) 
LOCATION:VHS in Greifswald, Turnhalle, Martin-Luther-Straße 7a, 17489 Greifswald
END:VEVENT
BEGIN:VEVENT
DTSTAMP:20260424T214236
DTSTART;TZID=Europe/Berlin:20260511T161500
DTEND;TZID=Europe/Berlin:20260511T174500
UID:261G30102-20260511T161500@VHSGREIFSWALD
SUMMARY:Qigong Shibashi Set 1 - zertifiziert* (261G30102) 
LOCATION:VHS in Greifswald, Turnhalle, Martin-Luther-Straße 7a, 17489 Greifswald
END:VEVENT
BEGIN:VEVENT
DTSTAMP:20260424T214236
DTSTART;TZID=Europe/Berlin:20260518T161500
DTEND;TZID=Europe/Berlin:20260518T174500
UID:261G30102-20260518T161500@VHSGREIFSWALD
SUMMARY:Qigong Shibashi Set 1 - zertifiziert* (261G30102) 
LOCATION:VHS in Greifswald, Turnhalle, Martin-Luther-Straße 7a, 17489 Greifswald
END:VEVENT
BEGIN:VEVENT
DTSTAMP:20260424T214236
DTSTART;TZID=Europe/Berlin:20260601T161500
DTEND;TZID=Europe/Berlin:20260601T174500
UID:261G30102-20260601T161500@VHSGREIFSWALD
SUMMARY:Qigong Shibashi Set 1 - zertifiziert* (261G30102) 
LOCATION:VHS in Greifswald, Turnhalle, Martin-Luther-Straße 7a, 17489 Greifswald
END:VEVENT
BEGIN:VEVENT
DTSTAMP:20260424T214236
DTSTART;TZID=Europe/Berlin:20260608T161500
DTEND;TZID=Europe/Berlin:20260608T174500
UID:261G30102-20260608T161500@VHSGREIFSWALD
DESCRIPTION:mw: Ersatz f. 16.03.
SUMMARY:Qigong Shibashi Set 1 - zertifiziert* (261G30102) 
LOCATION:VHS in Greifswald, Turnhalle, Martin-Luther-Straße 7a, 17489 Greifswald
END:VEVENT
BEGIN:VEVENT
DTSTAMP:20260424T214236
DTSTART;TZID=Europe/Berlin:20260615T161500
DTEND;TZID=Europe/Berlin:20260615T174500
UID:261G30102-20260615T161500@VHSGREIFSWALD
DESCRIPTION:Ersatz für 23.3. MR
SUMMARY:Qigong Shibashi Set 1 - zertifiziert* (261G30102) 
LOCATION:VHS in Greifswald, Turnhalle, Martin-Luther-Straße 7a, 17489 Greifswald
END:VEVENT
END:VCALENDAR