BEGIN:VCALENDAR
VERSION:2.0
PRODID:https://www.kufer.de/kuferweb / DE
METHOD:PUBLISH
CALSCALE:GREGORIAN
X-WR-TIMEZONE:Europe/Berlin
BEGIN:VTIMEZONE
TZID:Europe/Berlin
X-LIC-LOCATION:Europe/Berlin
BEGIN:DAYLIGHT
TZOFFSETFROM:+0100
TZOFFSETTO:+0200
TZNAME:CEST
DTSTART:19700329T020000
RRULE:FREQ=YEARLY;INTERVAL=1;BYDAY=-1SU;BYMONTH=3
END:DAYLIGHT
BEGIN:STANDARD
TZOFFSETFROM:+0200
TZOFFSETTO:+0100
TZNAME:CET
DTSTART:19701025T030000
RRULE:FREQ=YEARLY;INTERVAL=1;BYDAY=-1SU;BYMONTH=10
END:STANDARD
END:VTIMEZONE
BEGIN:VEVENT
DTSTAMP:20260424T231138
DTSTART;TZID=Europe/Berlin:20260303T163000
DTEND;TZID=Europe/Berlin:20260303T184500
UID:261G11002-20260303T163000@VHSGREIFSWALD
SUMMARY:Grundkurs Imkern (261G11002) 
LOCATION:VHS in Greifswald, Raum 2.4, Martin-Luther-Straße 7a, 17489 Greifswald
END:VEVENT
BEGIN:VEVENT
DTSTAMP:20260424T231138
DTSTART;TZID=Europe/Berlin:20260310T163000
DTEND;TZID=Europe/Berlin:20260310T184500
UID:261G11002-20260310T163000@VHSGREIFSWALD
SUMMARY:Grundkurs Imkern (261G11002) 
LOCATION:VHS in Greifswald, Raum 2.4, Martin-Luther-Straße 7a, 17489 Greifswald
END:VEVENT
BEGIN:VEVENT
DTSTAMP:20260424T231138
DTSTART;TZID=Europe/Berlin:20260317T163000
DTEND;TZID=Europe/Berlin:20260317T184500
UID:261G11002-20260317T163000@VHSGREIFSWALD
SUMMARY:Grundkurs Imkern (261G11002) 
LOCATION:VHS in Greifswald, Raum 2.4, Martin-Luther-Straße 7a, 17489 Greifswald
END:VEVENT
BEGIN:VEVENT
DTSTAMP:20260424T231138
DTSTART;TZID=Europe/Berlin:20260324T163000
DTEND;TZID=Europe/Berlin:20260324T184500
UID:261G11002-20260324T163000@VHSGREIFSWALD
SUMMARY:Grundkurs Imkern (261G11002) 
LOCATION:VHS in Greifswald, Raum 2.4, Martin-Luther-Straße 7a, 17489 Greifswald
END:VEVENT
BEGIN:VEVENT
DTSTAMP:20260424T231138
DTSTART;TZID=Europe/Berlin:20260414T163000
DTEND;TZID=Europe/Berlin:20260414T184500
UID:261G11002-20260414T163000@VHSGREIFSWALD
SUMMARY:Grundkurs Imkern (261G11002) 
LOCATION:VHS in Greifswald, Raum 2.6, Martin-Luther-Straße 7a, 17489 Greifswald
END:VEVENT
BEGIN:VEVENT
DTSTAMP:20260424T231138
DTSTART;TZID=Europe/Berlin:20260421T163000
DTEND;TZID=Europe/Berlin:20260421T184500
UID:261G11002-20260421T163000@VHSGREIFSWALD
SUMMARY:Grundkurs Imkern (261G11002) 
LOCATION:VHS in Greifswald, Raum 2.6, Martin-Luther-Straße 7a, 17489 Greifswald
END:VEVENT
BEGIN:VEVENT
DTSTAMP:20260424T231138
DTSTART;TZID=Europe/Berlin:20260428T163000
DTEND;TZID=Europe/Berlin:20260428T184500
UID:261G11002-20260428T163000@VHSGREIFSWALD
DESCRIPTION:mw: der 8. Termin wird noch bekannt gegeben (witterungsbedingt)
SUMMARY:Grundkurs Imkern (261G11002) 
LOCATION:VHS in Greifswald, Raum 2.6, Martin-Luther-Straße 7a, 17489 Greifswald
END:VEVENT
BEGIN:VEVENT
DTSTAMP:20260424T231138
DTSTART;TZID=Europe/Berlin:20260505T163000
DTEND;TZID=Europe/Berlin:20260505T184500
UID:261G11002-20260505T163000@VHSGREIFSWALD
SUMMARY:Grundkurs Imkern (261G11002) 
LOCATION:VHS in Greifswald, Raum 2.6, Martin-Luther-Straße 7a, 17489 Greifswald
END:VEVENT
END:VCALENDAR