BEGIN:VCALENDAR
VERSION:2.0
PRODID:https://www.kufer.de/kuferweb / DE
METHOD:PUBLISH
CALSCALE:GREGORIAN
X-WR-TIMEZONE:Europe/Berlin
BEGIN:VTIMEZONE
TZID:Europe/Berlin
X-LIC-LOCATION:Europe/Berlin
BEGIN:DAYLIGHT
TZOFFSETFROM:+0100
TZOFFSETTO:+0200
TZNAME:CEST
DTSTART:19700329T020000
RRULE:FREQ=YEARLY;INTERVAL=1;BYDAY=-1SU;BYMONTH=3
END:DAYLIGHT
BEGIN:STANDARD
TZOFFSETFROM:+0200
TZOFFSETTO:+0100
TZNAME:CET
DTSTART:19701025T030000
RRULE:FREQ=YEARLY;INTERVAL=1;BYDAY=-1SU;BYMONTH=10
END:STANDARD
END:VTIMEZONE
BEGIN:VEVENT
DTSTAMP:20260424T044946
DTSTART;TZID=Europe/Berlin:20260602T180000
DTEND;TZID=Europe/Berlin:20260602T193000
UID:261A30116-20260602T180000@VHSGREIFSWALD
SUMMARY:Hatha- Yoga für Einsteiger: Kraft schöpfen und entspannen (261A30116) 
LOCATION:Hort Nautilus Zinnowitz, Dünenstraße 41A, 17454 Zinnowitz
END:VEVENT
BEGIN:VEVENT
DTSTAMP:20260424T044946
DTSTART;TZID=Europe/Berlin:20260609T180000
DTEND;TZID=Europe/Berlin:20260609T193000
UID:261A30116-20260609T180000@VHSGREIFSWALD
SUMMARY:Hatha- Yoga für Einsteiger: Kraft schöpfen und entspannen (261A30116) 
LOCATION:Hort Nautilus Zinnowitz, Dünenstraße 41A, 17454 Zinnowitz
END:VEVENT
BEGIN:VEVENT
DTSTAMP:20260424T044946
DTSTART;TZID=Europe/Berlin:20260616T180000
DTEND;TZID=Europe/Berlin:20260616T193000
UID:261A30116-20260616T180000@VHSGREIFSWALD
SUMMARY:Hatha- Yoga für Einsteiger: Kraft schöpfen und entspannen (261A30116) 
LOCATION:Hort Nautilus Zinnowitz, Dünenstraße 41A, 17454 Zinnowitz
END:VEVENT
BEGIN:VEVENT
DTSTAMP:20260424T044946
DTSTART;TZID=Europe/Berlin:20260623T180000
DTEND;TZID=Europe/Berlin:20260623T193000
UID:261A30116-20260623T180000@VHSGREIFSWALD
SUMMARY:Hatha- Yoga für Einsteiger: Kraft schöpfen und entspannen (261A30116) 
LOCATION:Hort Nautilus Zinnowitz, Dünenstraße 41A, 17454 Zinnowitz
END:VEVENT
BEGIN:VEVENT
DTSTAMP:20260424T044946
DTSTART;TZID=Europe/Berlin:20260630T180000
DTEND;TZID=Europe/Berlin:20260630T193000
UID:261A30116-20260630T180000@VHSGREIFSWALD
SUMMARY:Hatha- Yoga für Einsteiger: Kraft schöpfen und entspannen (261A30116) 
LOCATION:Hort Nautilus Zinnowitz, Dünenstraße 41A, 17454 Zinnowitz
END:VEVENT
BEGIN:VEVENT
DTSTAMP:20260424T044946
DTSTART;TZID=Europe/Berlin:20260707T180000
DTEND;TZID=Europe/Berlin:20260707T193000
UID:261A30116-20260707T180000@VHSGREIFSWALD
SUMMARY:Hatha- Yoga für Einsteiger: Kraft schöpfen und entspannen (261A30116) 
LOCATION:Hort Nautilus Zinnowitz, Dünenstraße 41A, 17454 Zinnowitz
END:VEVENT
END:VCALENDAR