BEGIN:VCALENDAR
VERSION:2.0
PRODID:https://www.kufer.de/kuferweb / DE
METHOD:PUBLISH
CALSCALE:GREGORIAN
X-WR-TIMEZONE:Europe/Berlin
BEGIN:VTIMEZONE
TZID:Europe/Berlin
X-LIC-LOCATION:Europe/Berlin
BEGIN:DAYLIGHT
TZOFFSETFROM:+0100
TZOFFSETTO:+0200
TZNAME:CEST
DTSTART:19700329T020000
RRULE:FREQ=YEARLY;INTERVAL=1;BYDAY=-1SU;BYMONTH=3
END:DAYLIGHT
BEGIN:STANDARD
TZOFFSETFROM:+0200
TZOFFSETTO:+0100
TZNAME:CET
DTSTART:19701025T030000
RRULE:FREQ=YEARLY;INTERVAL=1;BYDAY=-1SU;BYMONTH=10
END:STANDARD
END:VTIMEZONE
BEGIN:VEVENT
DTSTAMP:20260424T231138
DTSTART;TZID=Europe/Berlin:20250911T083000
DTEND;TZID=Europe/Berlin:20250911T153000
UID:252A10501T-20250911T083000@VHSGREIFSWALD
DESCRIPTION:Eröffnung Ersatz für Ausfall am 17.09.2025
SUMMARY:Fortbildung zur Kita-Leitung (252A10501T) 
LOCATION:Raum 9 - VHS Anklam, Markt 7, Markt 7, 17389 Anklam
END:VEVENT
BEGIN:VEVENT
DTSTAMP:20260424T231138
DTSTART;TZID=Europe/Berlin:20250925T083000
DTEND;TZID=Europe/Berlin:20250925T153000
UID:252A10501T-20250925T083000@VHSGREIFSWALD
DESCRIPTION:Rechtliche Grundlagen - Teil 1 - Tag 1
SUMMARY:Fortbildung zur Kita-Leitung (252A10501T) 
LOCATION:Raum 3 - VHS Anklam, Markt 7, Markt 7, 17389 Anklam
END:VEVENT
BEGIN:VEVENT
DTSTAMP:20260424T231138
DTSTART;TZID=Europe/Berlin:20251001T083000
DTEND;TZID=Europe/Berlin:20251001T153000
UID:252A10501T-20251001T083000@VHSGREIFSWALD
DESCRIPTION:Rechtliche Grundlagen - Teil 1 - Tag 2
SUMMARY:Fortbildung zur Kita-Leitung (252A10501T) 
LOCATION:Raum 3 - VHS Anklam, Markt 7, Markt 7, 17389 Anklam
END:VEVENT
BEGIN:VEVENT
DTSTAMP:20260424T231138
DTSTART;TZID=Europe/Berlin:20251008T083000
DTEND;TZID=Europe/Berlin:20251008T153000
UID:252A10501T-20251008T083000@VHSGREIFSWALD
DESCRIPTION:Visionen
SUMMARY:Fortbildung zur Kita-Leitung (252A10501T) 
LOCATION:Raum 3 - VHS Anklam, Markt 7, Markt 7, 17389 Anklam
END:VEVENT
BEGIN:VEVENT
DTSTAMP:20260424T231138
DTSTART;TZID=Europe/Berlin:20251009T083000
DTEND;TZID=Europe/Berlin:20251009T153000
UID:252A10501T-20251009T083000@VHSGREIFSWALD
DESCRIPTION:Mitarbeiterführung Teil 1
SUMMARY:Fortbildung zur Kita-Leitung (252A10501T) 
LOCATION:Raum 9 - VHS Anklam, Markt 7, Markt 7, 17389 Anklam
END:VEVENT
BEGIN:VEVENT
DTSTAMP:20260424T231138
DTSTART;TZID=Europe/Berlin:20251015T083000
DTEND;TZID=Europe/Berlin:20251015T153000
UID:252A10501T-20251015T083000@VHSGREIFSWALD
DESCRIPTION:Rechtliche Grundlagen - Teil 2 - Tag 1
SUMMARY:Fortbildung zur Kita-Leitung (252A10501T) 
LOCATION:Raum 3 - VHS Anklam, Markt 7, Markt 7, 17389 Anklam
END:VEVENT
BEGIN:VEVENT
DTSTAMP:20260424T231138
DTSTART;TZID=Europe/Berlin:20251016T083000
DTEND;TZID=Europe/Berlin:20251016T153000
UID:252A10501T-20251016T083000@VHSGREIFSWALD
DESCRIPTION:Mitarbeiterführung Teil 2
SUMMARY:Fortbildung zur Kita-Leitung (252A10501T) 
LOCATION:Raum 3 - VHS Anklam, Markt 7, Markt 7, 17389 Anklam
END:VEVENT
BEGIN:VEVENT
DTSTAMP:20260424T231138
DTSTART;TZID=Europe/Berlin:20251106T083000
DTEND;TZID=Europe/Berlin:20251106T153000
UID:252A10501T-20251106T083000@VHSGREIFSWALD
DESCRIPTION:Organisationsentwicklung, Kita-Org. - Büro-Org. Teil 1
SUMMARY:Fortbildung zur Kita-Leitung (252A10501T) 
LOCATION:Raum 3 - VHS Anklam, Markt 7, Markt 7, 17389 Anklam
END:VEVENT
BEGIN:VEVENT
DTSTAMP:20260424T231138
DTSTART;TZID=Europe/Berlin:20251112T083000
DTEND;TZID=Europe/Berlin:20251112T153000
UID:252A10501T-20251112T083000@VHSGREIFSWALD
DESCRIPTION:Rechtliche Grundlagen - Teil 2 - Tag 2
SUMMARY:Fortbildung zur Kita-Leitung (252A10501T) 
LOCATION:Raum 3 - VHS Anklam, Markt 7, Markt 7, 17389 Anklam
END:VEVENT
BEGIN:VEVENT
DTSTAMP:20260424T231138
DTSTART;TZID=Europe/Berlin:20251113T083000
DTEND;TZID=Europe/Berlin:20251113T153000
UID:252A10501T-20251113T083000@VHSGREIFSWALD
DESCRIPTION:Biografiearbeit, Konfliktbearbeitung, Selbstreflexion - Teil 1
SUMMARY:Fortbildung zur Kita-Leitung (252A10501T) 
LOCATION:Raum 3 - VHS Anklam, Markt 7, Markt 7, 17389 Anklam
END:VEVENT
BEGIN:VEVENT
DTSTAMP:20260424T231138
DTSTART;TZID=Europe/Berlin:20251119T083000
DTEND;TZID=Europe/Berlin:20251119T153000
UID:252A10501T-20251119T083000@VHSGREIFSWALD
DESCRIPTION:Teamarbeit und Teamentwicklung - Teil 1
SUMMARY:Fortbildung zur Kita-Leitung (252A10501T) 
LOCATION:Raum 3 - VHS Anklam, Markt 7, Markt 7, 17389 Anklam
END:VEVENT
BEGIN:VEVENT
DTSTAMP:20260424T231138
DTSTART;TZID=Europe/Berlin:20251120T083000
DTEND;TZID=Europe/Berlin:20251120T153000
UID:252A10501T-20251120T083000@VHSGREIFSWALD
DESCRIPTION:Teamarbeit und Teamentwicklung - Teil 2
SUMMARY:Fortbildung zur Kita-Leitung (252A10501T) 
LOCATION:Raum 3 - VHS Anklam, Markt 7, Markt 7, 17389 Anklam
END:VEVENT
BEGIN:VEVENT
DTSTAMP:20260424T231138
DTSTART;TZID=Europe/Berlin:20251127T083000
DTEND;TZID=Europe/Berlin:20251127T153000
UID:252A10501T-20251127T083000@VHSGREIFSWALD
DESCRIPTION:Organisationsentwicklung, Kita-Org. - Büro-Org. Teil 2
SUMMARY:Fortbildung zur Kita-Leitung (252A10501T) 
LOCATION:Raum 3 - VHS Anklam, Markt 7, Markt 7, 17389 Anklam
END:VEVENT
BEGIN:VEVENT
DTSTAMP:20260424T231138
DTSTART;TZID=Europe/Berlin:20251203T083000
DTEND;TZID=Europe/Berlin:20251203T153000
UID:252A10501T-20251203T083000@VHSGREIFSWALD
DESCRIPTION:Qualitätsmanagement, -entwicklung, interne Evaluastion - Teil 1
SUMMARY:Fortbildung zur Kita-Leitung (252A10501T) 
LOCATION:Raum 3 - VHS Anklam, Markt 7, Markt 7, 17389 Anklam
END:VEVENT
BEGIN:VEVENT
DTSTAMP:20260424T231138
DTSTART;TZID=Europe/Berlin:20260115T083000
DTEND;TZID=Europe/Berlin:20260115T153000
UID:252A10501T-20260115T083000@VHSGREIFSWALD
DESCRIPTION:Elternpartnerschaft - Teil 1
SUMMARY:Fortbildung zur Kita-Leitung (252A10501T) 
LOCATION:Raum 3 - VHS Anklam, Markt 7, Markt 7, 17389 Anklam
END:VEVENT
BEGIN:VEVENT
DTSTAMP:20260424T231138
DTSTART;TZID=Europe/Berlin:20260122T083000
DTEND;TZID=Europe/Berlin:20260122T153000
UID:252A10501T-20260122T083000@VHSGREIFSWALD
DESCRIPTION:Qualitätsmanagement, -entwicklung, interne Evaluastion - Teil 2
SUMMARY:Fortbildung zur Kita-Leitung (252A10501T) 
LOCATION:Raum 3 - VHS Anklam, Markt 7, Markt 7, 17389 Anklam
END:VEVENT
BEGIN:VEVENT
DTSTAMP:20260424T231138
DTSTART;TZID=Europe/Berlin:20260127T083000
DTEND;TZID=Europe/Berlin:20260127T153000
UID:252A10501T-20260127T083000@VHSGREIFSWALD
DESCRIPTION:Elternpartnerschaft - Teil 2 Ersatz für Ausfall am 29.01.2026
SUMMARY:Fortbildung zur Kita-Leitung (252A10501T) 
LOCATION:Raum 3 - VHS Anklam, Markt 7, Markt 7, 17389 Anklam
END:VEVENT
BEGIN:VEVENT
DTSTAMP:20260424T231138
DTSTART;TZID=Europe/Berlin:20260128T083000
DTEND;TZID=Europe/Berlin:20260128T153000
UID:252A10501T-20260128T083000@VHSGREIFSWALD
DESCRIPTION:Bildung für nachhaltige Entwicklung 
SUMMARY:Fortbildung zur Kita-Leitung (252A10501T) 
LOCATION:Raum 3 - VHS Anklam, Markt 7, Markt 7, 17389 Anklam
END:VEVENT
BEGIN:VEVENT
DTSTAMP:20260424T231138
DTSTART;TZID=Europe/Berlin:20260205T083000
DTEND;TZID=Europe/Berlin:20260205T153000
UID:252A10501T-20260205T083000@VHSGREIFSWALD
DESCRIPTION:Integration und Inklusion - Teil 1
SUMMARY:Fortbildung zur Kita-Leitung (252A10501T) 
LOCATION:Raum 3 - VHS Anklam, Markt 7, Markt 7, 17389 Anklam
END:VEVENT
BEGIN:VEVENT
DTSTAMP:20260424T231138
DTSTART;TZID=Europe/Berlin:20260226T083000
DTEND;TZID=Europe/Berlin:20260226T153000
UID:252A10501T-20260226T083000@VHSGREIFSWALD
DESCRIPTION:Integration und Inklusion - Teil 2
SUMMARY:Fortbildung zur Kita-Leitung (252A10501T) 
LOCATION:Raum 3 - VHS Anklam, Markt 7, Markt 7, 17389 Anklam
END:VEVENT
BEGIN:VEVENT
DTSTAMP:20260424T231138
DTSTART;TZID=Europe/Berlin:20260305T083000
DTEND;TZID=Europe/Berlin:20260305T153000
UID:252A10501T-20260305T083000@VHSGREIFSWALD
DESCRIPTION:Biografiearbeit, Konfliktbearbeitung, Selbstreflexion - Teil 2 Ersatz für Ausfall am 25.02.2026
SUMMARY:Fortbildung zur Kita-Leitung (252A10501T) 
LOCATION:Raum 3 - VHS Anklam, Markt 7, Markt 7, 17389 Anklam
END:VEVENT
BEGIN:VEVENT
DTSTAMP:20260424T231138
DTSTART;TZID=Europe/Berlin:20260318T083000
DTEND;TZID=Europe/Berlin:20260318T153000
UID:252A10501T-20260318T083000@VHSGREIFSWALD
DESCRIPTION:Biografiearbeit, Konfliktbearbeitung, Selbstreflexion - Teil 3
SUMMARY:Fortbildung zur Kita-Leitung (252A10501T) 
LOCATION:Raum 3 - VHS Anklam, Markt 7, Markt 7, 17389 Anklam
END:VEVENT
BEGIN:VEVENT
DTSTAMP:20260424T231138
DTSTART;TZID=Europe/Berlin:20260325T083000
DTEND;TZID=Europe/Berlin:20260325T153000
UID:252A10501T-20260325T083000@VHSGREIFSWALD
DESCRIPTION:telefonische Einzelberatung Hausarbeit/Kolloquium
SUMMARY:Fortbildung zur Kita-Leitung (252A10501T) 
LOCATION:Raum 3 - VHS Anklam, Markt 7, Markt 7, 17389 Anklam
END:VEVENT
BEGIN:VEVENT
DTSTAMP:20260424T231138
DTSTART;TZID=Europe/Berlin:20260326T083000
DTEND;TZID=Europe/Berlin:20260326T153000
UID:252A10501T-20260326T083000@VHSGREIFSWALD
DESCRIPTION:Pädagogische Konzeption 
SUMMARY:Fortbildung zur Kita-Leitung (252A10501T) 
LOCATION:Raum 3 - VHS Anklam, Markt 7, Markt 7, 17389 Anklam
END:VEVENT
BEGIN:VEVENT
DTSTAMP:20260424T231138
DTSTART;TZID=Europe/Berlin:20260422T083000
DTEND;TZID=Europe/Berlin:20260422T153000
UID:252A10501T-20260422T083000@VHSGREIFSWALD
DESCRIPTION:Biografiearbeit, Konfliktbearbeitung, Selbstreflexion - Teil 4 - Gruppe 1
SUMMARY:Fortbildung zur Kita-Leitung (252A10501T) 
LOCATION:Raum 3 - VHS Anklam, Markt 7, Markt 7, 17389 Anklam
END:VEVENT
BEGIN:VEVENT
DTSTAMP:20260424T231138
DTSTART;TZID=Europe/Berlin:20260423T083000
DTEND;TZID=Europe/Berlin:20260423T153000
UID:252A10501T-20260423T083000@VHSGREIFSWALD
DESCRIPTION:Biografiearbeit, Konfliktbearbeitung, Selbstreflexion - Teil 4 - Gruppe 2
SUMMARY:Fortbildung zur Kita-Leitung (252A10501T) 
LOCATION:Raum 3 - VHS Anklam, Markt 7, Markt 7, 17389 Anklam
END:VEVENT
BEGIN:VEVENT
DTSTAMP:20260424T231138
DTSTART;TZID=Europe/Berlin:20260430T083000
DTEND;TZID=Europe/Berlin:20260430T153000
UID:252A10501T-20260430T083000@VHSGREIFSWALD
DESCRIPTION:Gesundheitsförderung und Prävention Ersatz für Ausfall am 12.03.2026
SUMMARY:Fortbildung zur Kita-Leitung (252A10501T) 
LOCATION:Raum 3 - VHS Anklam, Markt 7, Markt 7, 17389 Anklam
END:VEVENT
BEGIN:VEVENT
DTSTAMP:20260424T231138
DTSTART;TZID=Europe/Berlin:20260508T083000
DTEND;TZID=Europe/Berlin:20260508T153000
UID:252A10501T-20260508T083000@VHSGREIFSWALD
DESCRIPTION:Öffentlichkeitsarbeit
SUMMARY:Fortbildung zur Kita-Leitung (252A10501T) 
LOCATION:Raum 3 - VHS Anklam, Markt 7, Markt 7, 17389 Anklam
END:VEVENT
BEGIN:VEVENT
DTSTAMP:20260424T231138
DTSTART;TZID=Europe/Berlin:20260509T083000
DTEND;TZID=Europe/Berlin:20260509T153000
UID:252A10501T-20260509T083000@VHSGREIFSWALD
DESCRIPTION:Sozial Sponsoring und Fundraising
SUMMARY:Fortbildung zur Kita-Leitung (252A10501T) 
LOCATION:Raum 3 - VHS Anklam, Markt 7, Markt 7, 17389 Anklam
END:VEVENT
BEGIN:VEVENT
DTSTAMP:20260424T231138
DTSTART;TZID=Europe/Berlin:20260602T083000
DTEND;TZID=Europe/Berlin:20260602T153000
UID:252A10501T-20260602T083000@VHSGREIFSWALD
DESCRIPTION:Resilienz Ersatz für Ausfall am 09.04.2026
SUMMARY:Fortbildung zur Kita-Leitung (252A10501T) 
LOCATION:Raum 3 - VHS Anklam, Markt 7, Markt 7, 17389 Anklam
END:VEVENT
END:VCALENDAR